BEGIN:VCALENDAR
VERSION:2.0
PRODID:icalendar-ruby
CALSCALE:GREGORIAN
METHOD:PUBLISH
BEGIN:VEVENT
DTSTAMP:20260423T165832Z
UID:1-1607723@calvarydanville.com
DTSTART:20261101T150000Z
DTEND:20261101T160000Z
CLASS:PUBLIC
CREATED:20260423T105200
DESCRIPTION:Small groups of all ages gather to study Scripture together. Co
 ntact us for information or how to get connected!\n 
LAST-MODIFIED:20260423T105200
LOCATION:
SUMMARY:Sunday School
URL;VALUE=URI:https://www.calvarydanville.com/events/sunday-school/2026-11-
 01
ATTACH;FILENAME=sunday-school-website.png;FMTTYPE=image/png:https://dq5pwpg
 1q8ru0.cloudfront.net/2023/09/12/11/30/25/e140d473-b88f-4945-a69e-7d2e056c
 1d80/sunday-school-website.png
END:VEVENT
END:VCALENDAR
